BEGIN:VCALENDAR
VERSION:2.0
X-WR-CALNAME:EventsCalendar
CALSCALE:GREGORIAN
BEGIN:VTIMEZONE
TZID:America/New_York
LAST-MODIFIED:20240422T053451Z
TZURL:https://www.tzurl.org/zoneinfo-outlook/America/New_York
X-LIC-LOCATION:America/New_York
BEGIN:DAYLIGHT
TZNAME:EDT
TZOFFSETFROM:-0500
TZOFFSETTO:-0400
DTSTART:19700308T020000
RRULE:FREQ=YEARLY;BYMONTH=3;BYDAY=2SU
END:DAYLIGHT
BEGIN:STANDARD
TZNAME:EST
TZOFFSETFROM:-0400
TZOFFSETTO:-0500
DTSTART:19701101T020000
RRULE:FREQ=YEARLY;BYMONTH=11;BYDAY=1SU
END:STANDARD
END:VTIMEZONE
BEGIN:VEVENT
CATEGORIES:Category,Public Events,Category,Student Events,Location,Main Campus
DESCRIPTION:A professor will share photos and reflections about his experience visiting the Gal&aacute;pagos Islands on Monday, May 11, at 6 p.m. at the college&rsquo;s main campus. The wildlife on the island chain off the coast of Ecuador inspired Charles Darwin&rsquo;s ideas about evolution. John Bateman, associate professor of environmental conservation and horticulture, will share &ldquo;What the Islands Teach You: Reflections from the Gal&aacute;pagos,&rdquo; in Stage 14, on the second floor of the Student Center, 3325 Marvin Sands Drive. The event is free and open to the public. Bateman will provide a visually engaging, story-driven presentation that blends natural history with a personal narrative of solo travel and immersion in a Spanish-speaking environment. &ldquo;The Gal&aacute;pagos is one of those places many people have heard of, but few will ever experience,&rdquo; he said. The talk connects the science of one of the world&rsquo;s most unique ecosystems with broader themes of curiosity, adaptation, and connecting with the natural world through firsthand experience. Bateman&rsquo;s trip in March was, in part, a scouting trip for a potential Unique Ecological Communities course offering. Previous courses have taken place in Costa Rica, the Florida Everglades, and South Africa. &ldquo;Stepping out of a familiar routine, especially with international travel, can foster independence, self-reflection, and a renewed sense of curiosity,&rdquo; he said. Bateman welcomes high school juniors and seniors and college students, especially those interested in study abroad and biology. Community members are also welcome since most FLCC travel courses are open to alumni and residents. To sign up for monthly emails about FLCC events and learning opportunities, use the online form.
DTSTAMP:20260424T023946
DTSTART;TZID=America/New_York:20260511T180000
DTEND;TZID=America/New_York:20260511T200000
LOCATION:Main Campus 
SUMMARY;LANGUAGE=en-us:FLCC professor to share Gal&aacute;pagos Islands experience
UID:f97b73d13568a591061d640075c6c3c0@www.flcc.edu
END:VEVENT
END:VCALENDAR







