BEGIN:VCALENDAR
VERSION:2.0
X-WR-CALNAME:EventsCalendar
CALSCALE:GREGORIAN
BEGIN:VTIMEZONE
TZID:America/New_York
LAST-MODIFIED:20240422T053451Z
TZURL:https://www.tzurl.org/zoneinfo-outlook/America/New_York
X-LIC-LOCATION:America/New_York
BEGIN:DAYLIGHT
TZNAME:EDT
TZOFFSETFROM:-0500
TZOFFSETTO:-0400
DTSTART:19700308T020000
RRULE:FREQ=YEARLY;BYMONTH=3;BYDAY=2SU
END:DAYLIGHT
BEGIN:STANDARD
TZNAME:EST
TZOFFSETFROM:-0400
TZOFFSETTO:-0500
DTSTART:19701101T020000
RRULE:FREQ=YEARLY;BYMONTH=11;BYDAY=1SU
END:STANDARD
END:VTIMEZONE
BEGIN:VEVENT
CATEGORIES:Category,Alumni & Giving,Location,Online
DESCRIPTION:Help us reach 350 donors to unlock an additional $100,000 in student support! Whether you choose to support a scholarship, student emergency funds, athletics, or campus initiatives, ALL gifts on May 7 count towards the goal of 350 donors. How can I help? Copy the campaign link and share with your friends, family, or coworkers via text/email Share the campaign with your social networks to increase visibility Help make your gift make an even greater impact through a matching gift or challenge Visit the Laker Day of Giving page to participate today!
DTSTAMP:20260424T024109
DTSTART;TZID=America/New_York:20260507T000000
DTEND;TZID=America/New_York:20260508T235900
LOCATION:Online 
SUMMARY;LANGUAGE=en-us:Laker Day of Giving 
UID:d326c5a5820099a13bf4e513c348d693@www.flcc.edu
END:VEVENT
END:VCALENDAR







