BEGIN:VCALENDAR
VERSION:2.0
X-WR-CALNAME:EventsCalendar
CALSCALE:GREGORIAN
BEGIN:VTIMEZONE
TZID:America/New_York
LAST-MODIFIED:20240422T053451Z
TZURL:https://www.tzurl.org/zoneinfo-outlook/America/New_York
X-LIC-LOCATION:America/New_York
BEGIN:DAYLIGHT
TZNAME:EDT
TZOFFSETFROM:-0500
TZOFFSETTO:-0400
DTSTART:19700308T020000
RRULE:FREQ=YEARLY;BYMONTH=3;BYDAY=2SU
END:DAYLIGHT
BEGIN:STANDARD
TZNAME:EST
TZOFFSETFROM:-0400
TZOFFSETTO:-0500
DTSTART:19701101T020000
RRULE:FREQ=YEARLY;BYMONTH=11;BYDAY=1SU
END:STANDARD
END:VTIMEZONE
BEGIN:VEVENT
CATEGORIES:Category,Online Events,Category,Student Events,Location,Main Campus
DESCRIPTION:Enjoy pizza from noon to 12:30 p.m. in Room 3535. From 12:30 to 1:30 p.m. in Room 3515, students can receive assistance developing a study plan and identifying strategies to improve test-taking performance. Tutoring and Learning Center staff will be in attendance for questions and guidance. Not able to attend in person? Join online via Webex. Rooms 3535 and 3515 are located on the third floor of the FLCC Library. A special thank you to the FLCC Student Corporation for providing the pizza for this event.
DTSTAMP:20260422T060636
DTSTART;TZID=America/New_York:20260428T120000
DTEND;TZID=America/New_York:20260428T133000
LOCATION:Main Campus 
SUMMARY;LANGUAGE=en-us:Exam Prep Workshop
UID:34a19e88dde91e2e2ca44b763f3d396e@www.flcc.edu
END:VEVENT
END:VCALENDAR







