BEGIN:VCALENDAR
VERSION:2.0
X-WR-CALNAME:EventsCalendar
CALSCALE:GREGORIAN
BEGIN:VTIMEZONE
TZID:America/New_York
LAST-MODIFIED:20240422T053451Z
TZURL:https://www.tzurl.org/zoneinfo-outlook/America/New_York
X-LIC-LOCATION:America/New_York
BEGIN:DAYLIGHT
TZNAME:EDT
TZOFFSETFROM:-0500
TZOFFSETTO:-0400
DTSTART:19700308T020000
RRULE:FREQ=YEARLY;BYMONTH=3;BYDAY=2SU
END:DAYLIGHT
BEGIN:STANDARD
TZNAME:EST
TZOFFSETFROM:-0400
TZOFFSETTO:-0500
DTSTART:19701101T020000
RRULE:FREQ=YEARLY;BYMONTH=11;BYDAY=1SU
END:STANDARD
END:VTIMEZONE
BEGIN:VEVENT
CATEGORIES:Category,Student Events,Location,Main Campus
DESCRIPTION:Join your fellow classmates and enjoy a fun break between classes at this once-a-year event with all kinds of FLCC swag and fun. Open to all current FLCC students. Make sure to bring your student ID.
DTSTAMP:20260424T024110
DTSTART;TZID=America/New_York:20260501T110000
DTEND;TZID=America/New_York:20260501T150000
LOCATION:Main Campus 
SUMMARY;LANGUAGE=en-us:MAY DAY
UID:bc128aa12c090cf259acf41accdd2ddf@www.flcc.edu
END:VEVENT
END:VCALENDAR







