BEGIN:VCALENDAR
VERSION:2.0
X-WR-CALNAME:EventsCalendar
CALSCALE:GREGORIAN
BEGIN:VTIMEZONE
TZID:America/New_York
LAST-MODIFIED:20240422T053451Z
TZURL:https://www.tzurl.org/zoneinfo-outlook/America/New_York
X-LIC-LOCATION:America/New_York
BEGIN:DAYLIGHT
TZNAME:EDT
TZOFFSETFROM:-0500
TZOFFSETTO:-0400
DTSTART:19700308T020000
RRULE:FREQ=YEARLY;BYMONTH=3;BYDAY=2SU
END:DAYLIGHT
BEGIN:STANDARD
TZNAME:EST
TZOFFSETFROM:-0400
TZOFFSETTO:-0500
DTSTART:19701101T020000
RRULE:FREQ=YEARLY;BYMONTH=11;BYDAY=1SU
END:STANDARD
END:VTIMEZONE
BEGIN:VEVENT
CATEGORIES:Category,Student Events,Location,Main Campus
DESCRIPTION:FLCC's Active Minds organization is hosting this event as part of Stress Less Day. Current FLCC students have an opportunity to connect with peers over arts and crafts, food and conversation. Attendees can also enter a raffle for a large Lego set!
DTSTAMP:20260422T132838
DTSTART;TZID=America/New_York:20260423T120000
DTEND;TZID=America/New_York:20260423T140000
LOCATION:Main Campus 
SUMMARY;LANGUAGE=en-us:Chill &amp; Create with Active Minds
UID:ed76c47d587cbecdfa837f12b9c0e758@www.flcc.edu
END:VEVENT
END:VCALENDAR







