BEGIN:VCALENDAR
VERSION:2.0
X-WR-CALNAME:EventsCalendar
CALSCALE:GREGORIAN
BEGIN:VTIMEZONE
TZID:America/New_York
LAST-MODIFIED:20240422T053451Z
TZURL:https://www.tzurl.org/zoneinfo-outlook/America/New_York
X-LIC-LOCATION:America/New_York
BEGIN:DAYLIGHT
TZNAME:EDT
TZOFFSETFROM:-0500
TZOFFSETTO:-0400
DTSTART:19700308T020000
RRULE:FREQ=YEARLY;BYMONTH=3;BYDAY=2SU
END:DAYLIGHT
BEGIN:STANDARD
TZNAME:EST
TZOFFSETFROM:-0400
TZOFFSETTO:-0500
DTSTART:19701101T020000
RRULE:FREQ=YEARLY;BYMONTH=11;BYDAY=1SU
END:STANDARD
END:VTIMEZONE
BEGIN:VEVENT
CATEGORIES:Category,Public Events,Category,Student Events,Location,Main Campus
DESCRIPTION:The FLCC Music Department Showcase is an end of the year concert featuring both the Guitar and Percussion Ensembles. Some of the department's applied lesson students will also be performing. Come and enjoy this free event.
DTSTAMP:20260424T023934
DTSTART;TZID=America/New_York:20260508T190000
DTEND;TZID=America/New_York:20260508T203000
LOCATION:Main Campus 
SUMMARY;LANGUAGE=en-us:Music Department Showcase
UID:3e3da0ac7593fe3cd6a24c8b9ea31df5@www.flcc.edu
END:VEVENT
END:VCALENDAR







