BEGIN:VCALENDAR
VERSION:2.0
X-WR-CALNAME:EventsCalendar
CALSCALE:GREGORIAN
BEGIN:VTIMEZONE
TZID:America/New_York
LAST-MODIFIED:20240422T053451Z
TZURL:https://www.tzurl.org/zoneinfo-outlook/America/New_York
X-LIC-LOCATION:America/New_York
BEGIN:DAYLIGHT
TZNAME:EDT
TZOFFSETFROM:-0500
TZOFFSETTO:-0400
DTSTART:19700308T020000
RRULE:FREQ=YEARLY;BYMONTH=3;BYDAY=2SU
END:DAYLIGHT
BEGIN:STANDARD
TZNAME:EST
TZOFFSETFROM:-0400
TZOFFSETTO:-0500
DTSTART:19701101T020000
RRULE:FREQ=YEARLY;BYMONTH=11;BYDAY=1SU
END:STANDARD
END:VTIMEZONE
BEGIN:VEVENT
CATEGORIES:Category,Public Events,Category,Student Events
DESCRIPTION:Come enjoy the beautiful sounds of the Finger Lake Chorale as they perform in at the First Congregational Church in Canandaigua, New York.
DTSTAMP:20260424T024102
DTSTART;TZID=America/New_York:20260510T150000
DTEND;TZID=America/New_York:20260510T170000
LOCATION: First Congregational Church of Canandaigua, 58 N Main Street, Canandaigua, NY 14424
SUMMARY;LANGUAGE=en-us:Finger Lakes Chorale concert
UID:9891f751a352a64267eeec14c5200f2f@www.flcc.edu
END:VEVENT
END:VCALENDAR







