BEGIN:VCALENDAR
VERSION:2.0
X-WR-CALNAME:EventsCalendar
CALSCALE:GREGORIAN
BEGIN:VTIMEZONE
TZID:America/New_York
LAST-MODIFIED:20240422T053451Z
TZURL:https://www.tzurl.org/zoneinfo-outlook/America/New_York
X-LIC-LOCATION:America/New_York
BEGIN:DAYLIGHT
TZNAME:EDT
TZOFFSETFROM:-0500
TZOFFSETTO:-0400
DTSTART:19700308T020000
RRULE:FREQ=YEARLY;BYMONTH=3;BYDAY=2SU
END:DAYLIGHT
BEGIN:STANDARD
TZNAME:EST
TZOFFSETFROM:-0400
TZOFFSETTO:-0500
DTSTART:19701101T020000
RRULE:FREQ=YEARLY;BYMONTH=11;BYDAY=1SU
END:STANDARD
END:VTIMEZONE
BEGIN:VEVENT
CATEGORIES:Category,Public Events,Category,Student Events
DESCRIPTION:The Finger Lakes Chorale will present a concert on May 9th at 7:30pm at St. Mary's Church in Canandaigua. Come enjoy the beautiful choral music.
DTSTAMP:20260424T023947
DTSTART;TZID=America/New_York:20260509T193000
DTEND;TZID=America/New_York:20260509T213000
LOCATION: St. Mary's Church, 95 N Main Street, Canandaigua, NY 14424
SUMMARY;LANGUAGE=en-us:Finger Lakes Chorale Concert
UID:aac88ea4812f8b2c37643452f891c0b7@www.flcc.edu
END:VEVENT
END:VCALENDAR







