BEGIN:VCALENDAR
VERSION:2.0
X-WR-CALNAME:EventsCalendar
CALSCALE:GREGORIAN
BEGIN:VTIMEZONE
TZID:America/New_York
LAST-MODIFIED:20240422T053451Z
TZURL:https://www.tzurl.org/zoneinfo-outlook/America/New_York
X-LIC-LOCATION:America/New_York
BEGIN:DAYLIGHT
TZNAME:EDT
TZOFFSETFROM:-0500
TZOFFSETTO:-0400
DTSTART:19700308T020000
RRULE:FREQ=YEARLY;BYMONTH=3;BYDAY=2SU
END:DAYLIGHT
BEGIN:STANDARD
TZNAME:EST
TZOFFSETFROM:-0400
TZOFFSETTO:-0500
DTSTART:19701101T020000
RRULE:FREQ=YEARLY;BYMONTH=11;BYDAY=1SU
END:STANDARD
END:VTIMEZONE
BEGIN:VEVENT
CATEGORIES:Category,Public Events,Category,Student Events,Location,Main Campus
DESCRIPTION:The FLCC Music Department presents a student Jazz Ensemble concert. The concert features 2 of our Jazz Ensemble classes from the Spring semester. Come hear the sounds of our talented students in Stage 14 on the FLCC college campus.
DTSTAMP:20260424T023934
DTSTART;TZID=America/New_York:20260505T190000
DTEND;TZID=America/New_York:20260505T210000
LOCATION:Main Campus 
SUMMARY;LANGUAGE=en-us:Jazz Ensemble Concert
UID:2b53f57e9b0b420a7c82a744664c1058@www.flcc.edu
END:VEVENT
END:VCALENDAR







