BEGIN:VCALENDAR
VERSION:2.0
X-WR-CALNAME:EventsCalendar
CALSCALE:GREGORIAN
BEGIN:VTIMEZONE
TZID:America/New_York
LAST-MODIFIED:20240422T053451Z
TZURL:https://www.tzurl.org/zoneinfo-outlook/America/New_York
X-LIC-LOCATION:America/New_York
BEGIN:DAYLIGHT
TZNAME:EDT
TZOFFSETFROM:-0500
TZOFFSETTO:-0400
DTSTART:19700308T020000
RRULE:FREQ=YEARLY;BYMONTH=3;BYDAY=2SU
END:DAYLIGHT
BEGIN:STANDARD
TZNAME:EST
TZOFFSETFROM:-0400
TZOFFSETTO:-0500
DTSTART:19701101T020000
RRULE:FREQ=YEARLY;BYMONTH=11;BYDAY=1SU
END:STANDARD
END:VTIMEZONE
BEGIN:VEVENT
CATEGORIES:Category,Public Events,Location,Viticulture and Wine Center
DESCRIPTION:Support the next generation of viticulture and winemaking professionals. 5 tastings for $10. Reservations are preferred but not required. To reserve your spot, contact (585) 785-1183 or viticulture@flcc.edu.
DTSTAMP:20260422T224648
DTSTART;TZID=America/New_York:20260425T120000
DTEND;TZID=America/New_York:20260425T160000
LOCATION:Viticulture and Wine Center 
SUMMARY;LANGUAGE=en-us:Wine Tasting and Center Tours
UID:ea3de9b760a5a6beecf67fc80f4742ef@www.flcc.edu
END:VEVENT
END:VCALENDAR







