BEGIN:VCALENDAR
VERSION:2.0
X-WR-CALNAME:EventsCalendar
CALSCALE:GREGORIAN
BEGIN:VTIMEZONE
TZID:America/New_York
LAST-MODIFIED:20240422T053451Z
TZURL:https://www.tzurl.org/zoneinfo-outlook/America/New_York
X-LIC-LOCATION:America/New_York
BEGIN:DAYLIGHT
TZNAME:EDT
TZOFFSETFROM:-0500
TZOFFSETTO:-0400
DTSTART:19700308T020000
RRULE:FREQ=YEARLY;BYMONTH=3;BYDAY=2SU
END:DAYLIGHT
BEGIN:STANDARD
TZNAME:EST
TZOFFSETFROM:-0400
TZOFFSETTO:-0500
DTSTART:19701101T020000
RRULE:FREQ=YEARLY;BYMONTH=11;BYDAY=1SU
END:STANDARD
END:VTIMEZONE
BEGIN:VEVENT
CATEGORIES:Category,Public Events,Category,Student Events
DESCRIPTION:Finger Lakes Camerata will perform a concert titled &quot;From Darkness into Light&quot;. Anthony D'Agostino is the director of the choral group. If you would like more information about the concert, please contact Anthony at his email address: anthony.dagostino@flcc.edu
DTSTAMP:20260424T024102
DTSTART;TZID=America/New_York:20260502T150000
DTEND;TZID=America/New_York:20260502T170000
LOCATION: United Church of Canandaigua, 11 Gibson Street, Canandaigua, NY 14424
SUMMARY;LANGUAGE=en-us:Finger Lakes Camerata Concert
UID:60ba37c87521c82c294f56e883290586@www.flcc.edu
END:VEVENT
END:VCALENDAR







