BEGIN:VCALENDAR
VERSION:2.0
X-WR-CALNAME:EventsCalendar
CALSCALE:GREGORIAN
BEGIN:VTIMEZONE
TZID:America/New_York
LAST-MODIFIED:20240422T053451Z
TZURL:https://www.tzurl.org/zoneinfo-outlook/America/New_York
X-LIC-LOCATION:America/New_York
BEGIN:DAYLIGHT
TZNAME:EDT
TZOFFSETFROM:-0500
TZOFFSETTO:-0400
DTSTART:19700308T020000
RRULE:FREQ=YEARLY;BYMONTH=3;BYDAY=2SU
END:DAYLIGHT
BEGIN:STANDARD
TZNAME:EST
TZOFFSETFROM:-0400
TZOFFSETTO:-0500
DTSTART:19701101T020000
RRULE:FREQ=YEARLY;BYMONTH=11;BYDAY=1SU
END:STANDARD
END:VTIMEZONE
BEGIN:VEVENT
CATEGORIES:Category,Employee Events,Category,Public Events,Category,Student Events
DESCRIPTION:The FLCC Nursing Club has partnered with Chipotle for the &quot;Do Good with Chipotle&quot; initiative to receive 25 percent of event sales. In order for the club to receive the funds, attendees must order online for pickup using code CKJNMVZ or reference the fundraiser in the restaurant. For online orders to count towards the fundraiser, they must be placed for pickup only from the restaurant location of, and during the hours of, the fundraiser. Delivery orders and gift cards do not qualify.
DTSTAMP:20260424T023934
DTSTART;TZID=America/New_York:20260504T160000
DTEND;TZID=America/New_York:20260504T200000
LOCATION: 282 Eastern Blvd., Canandaigua, NY 14424
SUMMARY;LANGUAGE=en-us:Chipotle Fundraiser for FLCC Nursing Club
UID:b9ebeee21a2bd83cccd9d5de68fa30ad@www.flcc.edu
END:VEVENT
END:VCALENDAR







