BEGIN:VCALENDAR
VERSION:2.0
X-WR-CALNAME:EventsCalendar
CALSCALE:GREGORIAN
BEGIN:VTIMEZONE
TZID:America/New_York
LAST-MODIFIED:20240422T053451Z
TZURL:https://www.tzurl.org/zoneinfo-outlook/America/New_York
X-LIC-LOCATION:America/New_York
BEGIN:DAYLIGHT
TZNAME:EDT
TZOFFSETFROM:-0500
TZOFFSETTO:-0400
DTSTART:19700308T020000
RRULE:FREQ=YEARLY;BYMONTH=3;BYDAY=2SU
END:DAYLIGHT
BEGIN:STANDARD
TZNAME:EST
TZOFFSETFROM:-0400
TZOFFSETTO:-0500
DTSTART:19701101T020000
RRULE:FREQ=YEARLY;BYMONTH=11;BYDAY=1SU
END:STANDARD
END:VTIMEZONE
BEGIN:VEVENT
CATEGORIES:Category,Public Events,Category,Student Events,Location,Main Campus
DESCRIPTION:The Visual and Performing Arts Department presents an evening of Art, Music and Theater. The music portion features The Beatles' #1s. An awards ceremony follows the music presentation.
DTSTAMP:20260424T023947
DTSTART;TZID=America/New_York:20260501T190000
DTEND;TZID=America/New_York:20260501T210000
LOCATION:Main Campus 
SUMMARY;LANGUAGE=en-us:Spring Arts Festival
UID:a36b8cd4dffe0d0ce0418ccf8b303a44@www.flcc.edu
END:VEVENT
END:VCALENDAR







