BEGIN:VCALENDAR
VERSION:2.0
X-WR-CALNAME:EventsCalendar
CALSCALE:GREGORIAN
BEGIN:VTIMEZONE
TZID:America/New_York
LAST-MODIFIED:20240422T053451Z
TZURL:https://www.tzurl.org/zoneinfo-outlook/America/New_York
X-LIC-LOCATION:America/New_York
BEGIN:DAYLIGHT
TZNAME:EDT
TZOFFSETFROM:-0500
TZOFFSETTO:-0400
DTSTART:19700308T020000
RRULE:FREQ=YEARLY;BYMONTH=3;BYDAY=2SU
END:DAYLIGHT
BEGIN:STANDARD
TZNAME:EST
TZOFFSETFROM:-0400
TZOFFSETTO:-0500
DTSTART:19701101T020000
RRULE:FREQ=YEARLY;BYMONTH=11;BYDAY=1SU
END:STANDARD
END:VTIMEZONE
BEGIN:VEVENT
CATEGORIES:Category,Employee Events,Category,Public Events,Category,Student Events,Location,Muller Field Station
DESCRIPTION:Muller Field Station is hosting a Light Trapping Seminar and Insect BioBlitz with FLCC alum Ben Knowlton to learn more about the nocturnal life around us. Ben Knowlton is a graduate student in entomology at the University of Kentucky, researching insect and tree conservation in urban landscapes. He earned his A.S. from FLCC in 2018, his B.S. from SUNY-ESF in 2021, and previously worked as an arborist and with New York State IPM. The seminar and bioblitz will feature an informational presentation on local insects in the Finger Lakes and the purpose of light trapping. Following the presentation, Ben will lead a light-trapping demonstration to identify as many insects as possible. The program will take place both indoors and outdoors and won&rsquo;t require extensive walking. All are welcome to join! Spots are limited, so registration is required. Register Now
DTSTAMP:20260424T024103
DTSTART;TZID=America/New_York:20260818T193000
DTEND;TZID=America/New_York:20260818T213000
LOCATION:Muller Field Station 
SUMMARY;LANGUAGE=en-us:Light Trapping Seminar and Insect BioBlitz
UID:09055872714ee930f6359a7de5115e78@www.flcc.edu
END:VEVENT
END:VCALENDAR







