BEGIN:VCALENDAR
VERSION:2.0
X-WR-CALNAME:EventsCalendar
CALSCALE:GREGORIAN
BEGIN:VTIMEZONE
TZID:America/New_York
LAST-MODIFIED:20240422T053451Z
TZURL:https://www.tzurl.org/zoneinfo-outlook/America/New_York
X-LIC-LOCATION:America/New_York
BEGIN:DAYLIGHT
TZNAME:EDT
TZOFFSETFROM:-0500
TZOFFSETTO:-0400
DTSTART:19700308T020000
RRULE:FREQ=YEARLY;BYMONTH=3;BYDAY=2SU
END:DAYLIGHT
BEGIN:STANDARD
TZNAME:EST
TZOFFSETFROM:-0400
TZOFFSETTO:-0500
DTSTART:19701101T020000
RRULE:FREQ=YEARLY;BYMONTH=11;BYDAY=1SU
END:STANDARD
END:VTIMEZONE
BEGIN:VEVENT
CATEGORIES:Category,Community Sponsored,Location,Main Campus
DESCRIPTION:For details, please refer to the Aera Advisory and Wealth Management Website.
DTSTAMP:20260419T191223
DTSTART;TZID=America/New_York:20260421T183000
DTEND;TZID=America/New_York:20260421T200000
LOCATION:Main Campus 
SUMMARY;LANGUAGE=en-us:Creating Tax Efficient Retirement Strategies workshop, National Retirement Academy
UID:37eefe51ccbf420fb0191f784fc8acfb@www.flcc.edu
END:VEVENT
END:VCALENDAR







