BEGIN:VCALENDAR
VERSION:2.0
X-WR-CALNAME:EventsCalendar
CALSCALE:GREGORIAN
BEGIN:VTIMEZONE
TZID:America/New_York
LAST-MODIFIED:20240422T053451Z
TZURL:https://www.tzurl.org/zoneinfo-outlook/America/New_York
X-LIC-LOCATION:America/New_York
BEGIN:DAYLIGHT
TZNAME:EDT
TZOFFSETFROM:-0500
TZOFFSETTO:-0400
DTSTART:19700308T020000
RRULE:FREQ=YEARLY;BYMONTH=3;BYDAY=2SU
END:DAYLIGHT
BEGIN:STANDARD
TZNAME:EST
TZOFFSETFROM:-0400
TZOFFSETTO:-0500
DTSTART:19701101T020000
RRULE:FREQ=YEARLY;BYMONTH=11;BYDAY=1SU
END:STANDARD
END:VTIMEZONE
BEGIN:VEVENT
CATEGORIES:Category,Employee Events,Category,Public Events,Category,Student Events,Location,Muller Field Station
DESCRIPTION:As summer draws to a close, the birds begin their journeys south for the winter after their eventful breeding seasons. Participants will be guided on a leisurely walk along several of Muller&rsquo;s trails to identify which birds are still around and which have left. The walk will be 2+ miles on even terrain with little elevation. Binoculars are recommended and will be supplied on a first-come, first-served basis. Spots are limited, so registration is required. Register Now
DTSTAMP:20260424T024118
DTSTART;TZID=America/New_York:20260822T073000
DTEND;TZID=America/New_York:20260822T093000
LOCATION:Muller Field Station 
SUMMARY;LANGUAGE=en-us:Migratory Bird Morning Excursion
UID:5f55d694f2221dbcbc82d4e00366466a@www.flcc.edu
END:VEVENT
END:VCALENDAR







