BEGIN:VCALENDAR
VERSION:2.0
X-WR-CALNAME:EventsCalendar
CALSCALE:GREGORIAN
BEGIN:VTIMEZONE
TZID:America/New_York
LAST-MODIFIED:20240422T053451Z
TZURL:https://www.tzurl.org/zoneinfo-outlook/America/New_York
X-LIC-LOCATION:America/New_York
BEGIN:DAYLIGHT
TZNAME:EDT
TZOFFSETFROM:-0500
TZOFFSETTO:-0400
DTSTART:19700308T020000
RRULE:FREQ=YEARLY;BYMONTH=3;BYDAY=2SU
END:DAYLIGHT
BEGIN:STANDARD
TZNAME:EST
TZOFFSETFROM:-0400
TZOFFSETTO:-0500
DTSTART:19701101T020000
RRULE:FREQ=YEARLY;BYMONTH=11;BYDAY=1SU
END:STANDARD
END:VTIMEZONE
BEGIN:VEVENT
CATEGORIES:Category,Student Events,Location,Main Campus
DESCRIPTION:The library will be open extended hours from 7:30 a.m. to 10:00 p.m. to support you as you prepare for the end of the semester. Stop by in the evening for coffee, tea, cocoa, and cookies starting at 6 p.m. to help keep you going. Need a break? Board games, puzzles, fidget toys, Play-Doh, and coloring supplies will be available to help you recharge. Reference Librarians will also be on hand to assist with research, citations, and navigating databases. Open to all FLCC students.
DTSTAMP:20260424T024109
DTSTART;TZID=America/New_York:20260504T073000
DTEND;TZID=America/New_York:20260504T220000
LOCATION:Main Campus 
SUMMARY;LANGUAGE=en-us:Extended Library Hours
UID:b79962a1e0390adc032f66bb4a83b31e@www.flcc.edu
END:VEVENT
END:VCALENDAR







