BEGIN:VCALENDAR
VERSION:2.0
X-WR-CALNAME:EventsCalendar
CALSCALE:GREGORIAN
BEGIN:VTIMEZONE
TZID:America/New_York
LAST-MODIFIED:20240422T053451Z
TZURL:https://www.tzurl.org/zoneinfo-outlook/America/New_York
X-LIC-LOCATION:America/New_York
BEGIN:DAYLIGHT
TZNAME:EDT
TZOFFSETFROM:-0500
TZOFFSETTO:-0400
DTSTART:19700308T020000
RRULE:FREQ=YEARLY;BYMONTH=3;BYDAY=2SU
END:DAYLIGHT
BEGIN:STANDARD
TZNAME:EST
TZOFFSETFROM:-0400
TZOFFSETTO:-0500
DTSTART:19701101T020000
RRULE:FREQ=YEARLY;BYMONTH=11;BYDAY=1SU
END:STANDARD
END:VTIMEZONE
BEGIN:VEVENT
CATEGORIES:Category,Public Events,Category,Artificial Intelligence,Location,Online
DESCRIPTION:Since its rapid rise in 2022, generative AI has been promoted as a tool for increasing efficiency, quality, and automation, becoming a prolific producer of content. But what does creativity mean in this new landscape, and what distinctly human qualities shape the earliest stages of an AI-assisted process? Join us for an exploration of how human imagination, lived experience, and ethical judgment intersect with generative AI, and what it means to be creative and authentic alongside these emerging technologies. Presenters are Leticia Kalweit, instruction and assessment reference librarian, and Adam Widera, automated systems and technical services librarian Register now Stay up-to-date on programming with FLCC's monthly events newsletter. Sign up online.
DTSTAMP:20260424T025905
DTSTART;TZID=America/New_York:20260512T120000
DTEND;TZID=America/New_York:20260512T130000
LOCATION:Online 
SUMMARY;LANGUAGE=en-us:FLX  AI Hub Webinar: Creativity in the Age of Generative AI
UID:031cd28c508be409c697985cf1269983@www.flcc.edu
END:VEVENT
END:VCALENDAR







