BEGIN:VCALENDAR
VERSION:2.0
X-WR-CALNAME:EventsCalendar
CALSCALE:GREGORIAN
BEGIN:VTIMEZONE
TZID:America/New_York
LAST-MODIFIED:20240422T053451Z
TZURL:https://www.tzurl.org/zoneinfo-outlook/America/New_York
X-LIC-LOCATION:America/New_York
BEGIN:DAYLIGHT
TZNAME:EDT
TZOFFSETFROM:-0500
TZOFFSETTO:-0400
DTSTART:19700308T020000
RRULE:FREQ=YEARLY;BYMONTH=3;BYDAY=2SU
END:DAYLIGHT
BEGIN:STANDARD
TZNAME:EST
TZOFFSETFROM:-0400
TZOFFSETTO:-0500
DTSTART:19701101T020000
RRULE:FREQ=YEARLY;BYMONTH=11;BYDAY=1SU
END:STANDARD
END:VTIMEZONE
BEGIN:VEVENT
CATEGORIES:Category,Transfer Services,Location,Online
DESCRIPTION:A transfer admissions representative from Binghamton University will be at available online for FLCC students to answer questions about their college and the transfer processes. Visit their virtual transfer table here.
DTSTAMP:20260424T025905
DTSTART;TZID=America/New_York:20260424T130000
DTEND;TZID=America/New_York:20260424T140000
LOCATION:Online 
SUMMARY;LANGUAGE=en-us:Binghamton University Virtual Transfer Table
UID:e4a581639cb6d87e6ea903e53faebbc6@www.flcc.edu
END:VEVENT
END:VCALENDAR







