BEGIN:VCALENDAR
VERSION:2.0
X-WR-CALNAME:EventsCalendar
CALSCALE:GREGORIAN
BEGIN:VTIMEZONE
TZID:America/New_York
LAST-MODIFIED:20240422T053451Z
TZURL:https://www.tzurl.org/zoneinfo-outlook/America/New_York
X-LIC-LOCATION:America/New_York
BEGIN:DAYLIGHT
TZNAME:EDT
TZOFFSETFROM:-0500
TZOFFSETTO:-0400
DTSTART:19700308T020000
RRULE:FREQ=YEARLY;BYMONTH=3;BYDAY=2SU
END:DAYLIGHT
BEGIN:STANDARD
TZNAME:EST
TZOFFSETFROM:-0400
TZOFFSETTO:-0500
DTSTART:19701101T020000
RRULE:FREQ=YEARLY;BYMONTH=11;BYDAY=1SU
END:STANDARD
END:VTIMEZONE
BEGIN:VEVENT
CATEGORIES:Category,Transfer Services,Location,Main Campus
DESCRIPTION:A transfer admissions representative from SUNY Geneseo will be at FLCC and available to answer questions about the college and their transfer processes.
DTSTAMP:20260424T025735
DTSTART;TZID=America/New_York:20260429T100000
DTEND;TZID=America/New_York:20260429T140000
LOCATION:Main Campus 
SUMMARY;LANGUAGE=en-us:SUNY Geneseo Transfer Table
UID:c3f935b47a86ff8c9b1836924af4628b@www.flcc.edu
END:VEVENT
END:VCALENDAR







