BEGIN:VCALENDAR
VERSION:2.0
X-WR-CALNAME:EventsCalendar
CALSCALE:GREGORIAN
BEGIN:VTIMEZONE
TZID:America/New_York
LAST-MODIFIED:20240422T053451Z
TZURL:https://www.tzurl.org/zoneinfo-outlook/America/New_York
X-LIC-LOCATION:America/New_York
BEGIN:DAYLIGHT
TZNAME:EDT
TZOFFSETFROM:-0500
TZOFFSETTO:-0400
DTSTART:19700308T020000
RRULE:FREQ=YEARLY;BYMONTH=3;BYDAY=2SU
END:DAYLIGHT
BEGIN:STANDARD
TZNAME:EST
TZOFFSETFROM:-0400
TZOFFSETTO:-0500
DTSTART:19701101T020000
RRULE:FREQ=YEARLY;BYMONTH=11;BYDAY=1SU
END:STANDARD
END:VTIMEZONE
BEGIN:VEVENT
CATEGORIES:Category,Employee Events,Category,Public Events,Category,Student Events,Location,Muller Field Station
DESCRIPTION:'Tis the season for all things garden and landscape design! Join Muller Field Station for our final spring semester &ldquo;Talk on the Wild Side,&rdquo; which focuses on sustainable landscape design and the role native plants play. We will be joined by FLCC's Horticulture and Greenhouse technician, Gareth March. Gareth joined the FLCC Environmental Conservation and Horticulture department last semester and brings a wealth of knowledge in sustainable landscape design and native plant systems, along with a passion for reconnecting people with the nature that surrounds them. Gareth will focus on how you can create sustainable landscapes using native plant selections&mdash;two of Muller&rsquo;s favorite topics. We&rsquo;d love for you to join us! Cost: Free Registration is required as space is limited. REGISTER NOW
DTSTAMP:20260424T025715
DTSTART;TZID=America/New_York:20260507T180000
DTEND;TZID=America/New_York:20260507T190000
LOCATION:Muller Field Station 
SUMMARY;LANGUAGE=en-us:Talk on the Wild Side: Sustainable Landscape Design
UID:3dc5a167d303c806a0349b84e687b0e8@www.flcc.edu
END:VEVENT
END:VCALENDAR







