BEGIN:VCALENDAR
VERSION:2.0
X-WR-CALNAME:EventsCalendar
CALSCALE:GREGORIAN
BEGIN:VTIMEZONE
TZID:America/New_York
LAST-MODIFIED:20240422T053451Z
TZURL:https://www.tzurl.org/zoneinfo-outlook/America/New_York
X-LIC-LOCATION:America/New_York
BEGIN:DAYLIGHT
TZNAME:EDT
TZOFFSETFROM:-0500
TZOFFSETTO:-0400
DTSTART:19700308T020000
RRULE:FREQ=YEARLY;BYMONTH=3;BYDAY=2SU
END:DAYLIGHT
BEGIN:STANDARD
TZNAME:EST
TZOFFSETFROM:-0400
TZOFFSETTO:-0500
DTSTART:19701101T020000
RRULE:FREQ=YEARLY;BYMONTH=11;BYDAY=1SU
END:STANDARD
END:VTIMEZONE
BEGIN:VEVENT
CATEGORIES:Category,Public Events,Location,Geneva Campus Center
DESCRIPTION:The camp introduces students to the world of clues, codes, and related science. Campers explore CSI techniques such as fingerprinting, DNA analysis, and forensic sketching. They&rsquo;ll also crack outdoor mysteries through geocaching and use science, technology, engineering, art, and math to uncover the truth. Registration is required. Camp Dates: July 27-31 Time: 8:30 a.m. to 3 p.m. Cost: $250 Costs include camp supplies, snacks, and a souvenir. Campers bring their own lunch. A limited number of scholarships are available, based on household income. For questions, email steam.camp@flcc.edu. REGISTER NOW
DTSTAMP:20260424T025906
DTSTART;TZID=America/New_York:20260727T083000
DTEND;TZID=America/New_York:20260731T150000
LOCATION:Geneva Campus Center 
SUMMARY;LANGUAGE=en-us:STEAM Detectives
UID:8d40d5f2a9115509b59b5b0ba1d8dc85@www.flcc.edu
END:VEVENT
END:VCALENDAR







