BEGIN:VCALENDAR
VERSION:2.0
X-WR-CALNAME:EventsCalendar
CALSCALE:GREGORIAN
BEGIN:VTIMEZONE
TZID:America/New_York
LAST-MODIFIED:20240422T053451Z
TZURL:https://www.tzurl.org/zoneinfo-outlook/America/New_York
X-LIC-LOCATION:America/New_York
BEGIN:DAYLIGHT
TZNAME:EDT
TZOFFSETFROM:-0500
TZOFFSETTO:-0400
DTSTART:19700308T020000
RRULE:FREQ=YEARLY;BYMONTH=3;BYDAY=2SU
END:DAYLIGHT
BEGIN:STANDARD
TZNAME:EST
TZOFFSETFROM:-0400
TZOFFSETTO:-0500
DTSTART:19701101T020000
RRULE:FREQ=YEARLY;BYMONTH=11;BYDAY=1SU
END:STANDARD
END:VTIMEZONE
BEGIN:VEVENT
CATEGORIES:Category,Public Events,Location,Victor Campus Center
DESCRIPTION:Students will build things that roll, glide, propel, and fly. They will explore how mechanical parts, electronic circuits, and robotics can be used to create motion. The camp will also include entertaining science demonstrations and educational games. Registration is required. Camp Dates: July 6-10 Time: 8:30 a.m. to 3 p.m. Cost: $250 Costs include camp supplies, snacks, and a souvenir. Campers bring their own lunch. A limited number of scholarships are available, based on household income. For questions, email steam.camp@flcc.edu. REGISTER NOW
DTSTAMP:20260424T025906
DTSTART;TZID=America/New_York:20260706T083000
DTEND;TZID=America/New_York:20260710T150000
LOCATION:Victor Campus Center 
SUMMARY;LANGUAGE=en-us:STEAM in Motion
UID:b5629f85aea6bd7b0cb8730920fab32b@www.flcc.edu
END:VEVENT
END:VCALENDAR







