BEGIN:VCALENDAR
VERSION:2.0
X-WR-CALNAME:EventsCalendar
CALSCALE:GREGORIAN
BEGIN:VTIMEZONE
TZID:America/New_York
LAST-MODIFIED:20240422T053451Z
TZURL:https://www.tzurl.org/zoneinfo-outlook/America/New_York
X-LIC-LOCATION:America/New_York
BEGIN:DAYLIGHT
TZNAME:EDT
TZOFFSETFROM:-0500
TZOFFSETTO:-0400
DTSTART:19700308T020000
RRULE:FREQ=YEARLY;BYMONTH=3;BYDAY=2SU
END:DAYLIGHT
BEGIN:STANDARD
TZNAME:EST
TZOFFSETFROM:-0400
TZOFFSETTO:-0500
DTSTART:19701101T020000
RRULE:FREQ=YEARLY;BYMONTH=11;BYDAY=1SU
END:STANDARD
END:VTIMEZONE
BEGIN:VEVENT
CATEGORIES:Category,Public Events,Location,Muller Field Station
DESCRIPTION:Through outdoor experiences, students will learn about the cycles of the environment and participate in plant and wildlife identification games. They will go canoeing to observe animal activity along the channel trail at the south end of Honeoye Lake and take part in water-quality and watershed-building activities. Campers will learn how Muller Field Station projects support the environment and how they can give back to it in their own backyards. Camp Dates: July 20-24 Time: 8:30 a.m. to 3 p.m. Cost: $250 Costs include camp supplies, snacks, and a souvenir. Campers bring their own lunch. A limited number of scholarships are available, based on household income. For questions, email steam.camp@flcc.edu. REGISTER NOW
DTSTAMP:20260424T025904
DTSTART;TZID=America/New_York:20260720T083000
DTEND;TZID=America/New_York:20260724T150000
LOCATION:Muller Field Station 
SUMMARY;LANGUAGE=en-us:STEAM in Nature
UID:64750572c616eed5d7fdab845d813672@www.flcc.edu
END:VEVENT
END:VCALENDAR







