BEGIN:VCALENDAR
VERSION:2.0
X-WR-CALNAME:EventsCalendar
CALSCALE:GREGORIAN
BEGIN:VTIMEZONE
TZID:America/New_York
LAST-MODIFIED:20240422T053451Z
TZURL:https://www.tzurl.org/zoneinfo-outlook/America/New_York
X-LIC-LOCATION:America/New_York
BEGIN:DAYLIGHT
TZNAME:EDT
TZOFFSETFROM:-0500
TZOFFSETTO:-0400
DTSTART:19700308T020000
RRULE:FREQ=YEARLY;BYMONTH=3;BYDAY=2SU
END:DAYLIGHT
BEGIN:STANDARD
TZNAME:EST
TZOFFSETFROM:-0400
TZOFFSETTO:-0500
DTSTART:19701101T020000
RRULE:FREQ=YEARLY;BYMONTH=11;BYDAY=1SU
END:STANDARD
END:VTIMEZONE
BEGIN:VEVENT
CATEGORIES:Category,Public Events,Location,Newark Campus Center
DESCRIPTION:Campers will explore computer science and game design. They will learn about technology and skilled trade careers through interactive tools, including virtual welding simulations. Students will also learn about careers related to the Artemis mission to return humans to the moon. Students will design, test, and launch pop bottle rockets, applying physics concepts such as force, motion, and trajectory. Registration is required. Camp Dates: July 13-17 Time: 8:30 a.m. to 3 p.m. Cost: $250 Costs include camp supplies, snacks, and a souvenir. Campers bring their own lunch. A limited number of scholarships are available, based on household income. For questions, email steam.camp@flcc.edu. REGISTER NOW
DTSTAMP:20260424T025906
DTSTART;TZID=America/New_York:20260713T083000
DTEND;TZID=America/New_York:20260717T150000
LOCATION:Newark Campus Center 
SUMMARY;LANGUAGE=en-us:STEAM in Orbit: Ready to Launch
UID:0111b914b4d495c5413837a7f0e015cb@www.flcc.edu
END:VEVENT
END:VCALENDAR







