BEGIN:VCALENDAR
VERSION:2.0
X-WR-CALNAME:EventsCalendar
CALSCALE:GREGORIAN
BEGIN:VTIMEZONE
TZID:America/New_York
LAST-MODIFIED:20240422T053451Z
TZURL:https://www.tzurl.org/zoneinfo-outlook/America/New_York
X-LIC-LOCATION:America/New_York
BEGIN:DAYLIGHT
TZNAME:EDT
TZOFFSETFROM:-0500
TZOFFSETTO:-0400
DTSTART:19700308T020000
RRULE:FREQ=YEARLY;BYMONTH=3;BYDAY=2SU
END:DAYLIGHT
BEGIN:STANDARD
TZNAME:EST
TZOFFSETFROM:-0400
TZOFFSETTO:-0500
DTSTART:19701101T020000
RRULE:FREQ=YEARLY;BYMONTH=11;BYDAY=1SU
END:STANDARD
END:VTIMEZONE
BEGIN:VEVENT
CATEGORIES:Category,Student Events,Location,Main Campus
DESCRIPTION:Enjoy a relaxed, social event with chances to win prizes while supplies last. Open to current FLCC students.
DTSTAMP:20260424T025905
DTSTART;TZID=America/New_York:20260504T123000
DTEND;TZID=America/New_York:20260504T133000
LOCATION:Main Campus 
SUMMARY;LANGUAGE=en-us:SCAC Bingo
UID:6ed5c8492a47925576c42d616cce3d3e@www.flcc.edu
END:VEVENT
END:VCALENDAR







