BEGIN:VCALENDAR
VERSION:2.0
X-WR-CALNAME:EventsCalendar
CALSCALE:GREGORIAN
BEGIN:VTIMEZONE
TZID:America/New_York
LAST-MODIFIED:20240422T053451Z
TZURL:https://www.tzurl.org/zoneinfo-outlook/America/New_York
X-LIC-LOCATION:America/New_York
BEGIN:DAYLIGHT
TZNAME:EDT
TZOFFSETFROM:-0500
TZOFFSETTO:-0400
DTSTART:19700308T020000
RRULE:FREQ=YEARLY;BYMONTH=3;BYDAY=2SU
END:DAYLIGHT
BEGIN:STANDARD
TZNAME:EST
TZOFFSETFROM:-0400
TZOFFSETTO:-0500
DTSTART:19701101T020000
RRULE:FREQ=YEARLY;BYMONTH=11;BYDAY=1SU
END:STANDARD
END:VTIMEZONE
BEGIN:VEVENT
CATEGORIES:Category,Public Events,Location,ArtSpace36
DESCRIPTION:Join ArtSpace36's Alumni Mentor, Arabella Cruz, for an opportunity to create pressed flowers. Pressing flowers allows for preservation of color and shape, and they are often used for crafts, scrapbooking or home decor. No prior experience is required; all are welcome to attend.
DTSTAMP:20260424T044046
DTSTART;TZID=America/New_York:20260609T180000
DTEND;TZID=America/New_York:20260609T200000
LOCATION:ArtSpace36 
SUMMARY;LANGUAGE=en-us:POP! Art: Pressed Flowers
UID:6c0d2c5612c35bc9fdf23aa8e81b2f5f@www.flcc.edu
END:VEVENT
END:VCALENDAR







