BEGIN:VCALENDAR
VERSION:2.0
X-WR-CALNAME:EventsCalendar
CALSCALE:GREGORIAN
BEGIN:VTIMEZONE
TZID:America/New_York
LAST-MODIFIED:20240422T053451Z
TZURL:https://www.tzurl.org/zoneinfo-outlook/America/New_York
X-LIC-LOCATION:America/New_York
BEGIN:DAYLIGHT
TZNAME:EDT
TZOFFSETFROM:-0500
TZOFFSETTO:-0400
DTSTART:19700308T020000
RRULE:FREQ=YEARLY;BYMONTH=3;BYDAY=2SU
END:DAYLIGHT
BEGIN:STANDARD
TZNAME:EST
TZOFFSETFROM:-0400
TZOFFSETTO:-0500
DTSTART:19701101T020000
RRULE:FREQ=YEARLY;BYMONTH=11;BYDAY=1SU
END:STANDARD
END:VTIMEZONE
BEGIN:VEVENT
CATEGORIES:Category,Public Events,Location,ArtSpace36
DESCRIPTION:Join ArtSpace36's Alumni Mentor, Arabella Cruz, for an opportunity to create a wand inspired by the Harry Potter franchise. From Harry Potter fans who know their Hogwarts House to those who may not know anything about the books or films, all are welcome to attend, connect with others and create a wand!
DTSTAMP:20260424T043237
DTSTART;TZID=America/New_York:20260512T180000
DTEND;TZID=America/New_York:20260512T200000
LOCATION:ArtSpace36 
SUMMARY;LANGUAGE=en-us:POP! Art: Harry Potter Wands
UID:9941eec9a7b4ae9d96ab1fdad9695f5e@www.flcc.edu
END:VEVENT
END:VCALENDAR







