BEGIN:VCALENDAR
VERSION:2.0
X-WR-CALNAME:EventsCalendar
CALSCALE:GREGORIAN
BEGIN:VTIMEZONE
TZID:America/New_York
LAST-MODIFIED:20240422T053451Z
TZURL:https://www.tzurl.org/zoneinfo-outlook/America/New_York
X-LIC-LOCATION:America/New_York
BEGIN:DAYLIGHT
TZNAME:EDT
TZOFFSETFROM:-0500
TZOFFSETTO:-0400
DTSTART:19700308T020000
RRULE:FREQ=YEARLY;BYMONTH=3;BYDAY=2SU
END:DAYLIGHT
BEGIN:STANDARD
TZNAME:EST
TZOFFSETFROM:-0400
TZOFFSETTO:-0500
DTSTART:19701101T020000
RRULE:FREQ=YEARLY;BYMONTH=11;BYDAY=1SU
END:STANDARD
END:VTIMEZONE
BEGIN:VEVENT
CATEGORIES:Category,Community Sponsored,Location,Main Campus
DESCRIPTION:For more details, please refer to the NYSCLSA website.
DTSTAMP:20260421T004526
DTSTART;TZID=America/New_York:20260311T090000
DTEND;TZID=America/New_York:20260311T133000
LOCATION:Main Campus 
SUMMARY;LANGUAGE=en-us:NYS Council on Leadership and Student Activities Conference
UID:2a518b849b3274ed0e9d901e5afb6960@www.flcc.edu
END:VEVENT
END:VCALENDAR







