BEGIN:VCALENDAR
VERSION:2.0
X-WR-CALNAME:EventsCalendar
CALSCALE:GREGORIAN
BEGIN:VTIMEZONE
TZID:America/New_York
LAST-MODIFIED:20240422T053451Z
TZURL:https://www.tzurl.org/zoneinfo-outlook/America/New_York
X-LIC-LOCATION:America/New_York
BEGIN:DAYLIGHT
TZNAME:EDT
TZOFFSETFROM:-0500
TZOFFSETTO:-0400
DTSTART:19700308T020000
RRULE:FREQ=YEARLY;BYMONTH=3;BYDAY=2SU
END:DAYLIGHT
BEGIN:STANDARD
TZNAME:EST
TZOFFSETFROM:-0400
TZOFFSETTO:-0500
DTSTART:19701101T020000
RRULE:FREQ=YEARLY;BYMONTH=11;BYDAY=1SU
END:STANDARD
END:VTIMEZONE
BEGIN:VEVENT
CATEGORIES:Category,Board of Trustees,Location,Main Campus
DESCRIPTION:All meetings are open to the public. For materials pertinent to each meeting, visit the . Documents for upcoming meetings are typically available one week before the meeting. Previous Board meetings are available on the FLCC YouTube channel.
DTSTAMP:20260423T024210
DTSTART;TZID=America/New_York:20260603T163000
DTEND;TZID=America/New_York:20260603T200000
LOCATION:Main Campus 
SUMMARY;LANGUAGE=en-us:FLCC Board of Trustees Meeting, June 2026
UID:e33b5c1fdfeb40584c8ade693e080cc9@www.flcc.edu
END:VEVENT
END:VCALENDAR







