BEGIN:VCALENDAR
VERSION:2.0
X-WR-CALNAME:EventsCalendar
CALSCALE:GREGORIAN
BEGIN:VTIMEZONE
TZID:America/New_York
LAST-MODIFIED:20240422T053451Z
TZURL:https://www.tzurl.org/zoneinfo-outlook/America/New_York
X-LIC-LOCATION:America/New_York
BEGIN:DAYLIGHT
TZNAME:EDT
TZOFFSETFROM:-0500
TZOFFSETTO:-0400
DTSTART:19700308T020000
RRULE:FREQ=YEARLY;BYMONTH=3;BYDAY=2SU
END:DAYLIGHT
BEGIN:STANDARD
TZNAME:EST
TZOFFSETFROM:-0400
TZOFFSETTO:-0500
DTSTART:19701101T020000
RRULE:FREQ=YEARLY;BYMONTH=11;BYDAY=1SU
END:STANDARD
END:VTIMEZONE
BEGIN:VEVENT
CATEGORIES:Category,Orientation,Location,Main Campus
DESCRIPTION:The Main Campus Open Houses are held in addition to Online Orientation and the Live Session on Webex. Orientation staff will be on hand to answer any questions you may have, get you connected to the right offices, and resource maps will be available for self-guided tours. Drop-in anytime during the event. Please sign up for this event at this link: https://flcc.formstack.com/forms/new_student_orientation_fall_2025
DTSTAMP:20260420T011011
DTSTART;TZID=America/New_York:20250821T130000
DTEND;TZID=America/New_York:20250821T150000
LOCATION:Main Campus 
SUMMARY;LANGUAGE=en-us:New Student Orientation: Main Campus Open House
UID:ae5abb444710042d661e586eb41c9539@www.flcc.edu
END:VEVENT
END:VCALENDAR







