BEGIN:VCALENDAR
VERSION:2.0
X-WR-CALNAME:EventsCalendar
CALSCALE:GREGORIAN
BEGIN:VTIMEZONE
TZID:America/New_York
LAST-MODIFIED:20240422T053451Z
TZURL:https://www.tzurl.org/zoneinfo-outlook/America/New_York
X-LIC-LOCATION:America/New_York
BEGIN:DAYLIGHT
TZNAME:EDT
TZOFFSETFROM:-0500
TZOFFSETTO:-0400
DTSTART:19700308T020000
RRULE:FREQ=YEARLY;BYMONTH=3;BYDAY=2SU
END:DAYLIGHT
BEGIN:STANDARD
TZNAME:EST
TZOFFSETFROM:-0400
TZOFFSETTO:-0500
DTSTART:19701101T020000
RRULE:FREQ=YEARLY;BYMONTH=11;BYDAY=1SU
END:STANDARD
END:VTIMEZONE
BEGIN:VEVENT
CATEGORIES:Category,Career Services,Location,Main Campus
DESCRIPTION:Learn more about career opportunities at Wayne Finger Lakes BOCES. A WFL BOCES recruiter will be available to talk with FLCC students about local full time &amp; part time opportunities.
DTSTAMP:20260424T204944
DTSTART;TZID=America/New_York:20250424T100000
DTEND;TZID=America/New_York:20250424T130000
LOCATION:Main Campus 
SUMMARY;LANGUAGE=en-us:Employer Table: Wayne Finger Lakes BOCES
UID:e7d211455b9d04f951df9822882d694b@www.flcc.edu
END:VEVENT
END:VCALENDAR







