BEGIN:VCALENDAR
VERSION:2.0
X-WR-CALNAME:EventsCalendar
CALSCALE:GREGORIAN
BEGIN:VTIMEZONE
TZID:America/New_York
LAST-MODIFIED:20240422T053451Z
TZURL:https://www.tzurl.org/zoneinfo-outlook/America/New_York
X-LIC-LOCATION:America/New_York
BEGIN:DAYLIGHT
TZNAME:EDT
TZOFFSETFROM:-0500
TZOFFSETTO:-0400
DTSTART:19700308T020000
RRULE:FREQ=YEARLY;BYMONTH=3;BYDAY=2SU
END:DAYLIGHT
BEGIN:STANDARD
TZNAME:EST
TZOFFSETFROM:-0400
TZOFFSETTO:-0500
DTSTART:19701101T020000
RRULE:FREQ=YEARLY;BYMONTH=11;BYDAY=1SU
END:STANDARD
END:VTIMEZONE
BEGIN:VEVENT
CATEGORIES:Category,Transfer Services,Location,Main Campus
DESCRIPTION:Exploring your options to transfer to a 4-year college or university? Take the opportunity to connect with a representative to ask questions like: What are your admissions requirements? When is the best time to transfer to your institution? How will my credits transfer into my program of interest? Are there scholarship opportunities? Representatives from 4-year institutions meet by appointment ONLY! Make an appointment today at Academic Advising, Career &amp; Transfer Services. Call/stop in/email (585) 785-1268, room 1115 or aacts@flcc.edu
DTSTAMP:20260421T012420
DTSTART;TZID=America/New_York:20250424T110000
DTEND;TZID=America/New_York:20250424T140000
LOCATION:Main Campus 
SUMMARY;LANGUAGE=en-us:1-on-1 Meetings with St. John Fisher University
UID:57816e530dfa4382c5cd75bebae32930@www.flcc.edu
END:VEVENT
END:VCALENDAR







