BEGIN:VCALENDAR
VERSION:2.0
X-WR-CALNAME:EventsCalendar
CALSCALE:GREGORIAN
BEGIN:VTIMEZONE
TZID:America/New_York
LAST-MODIFIED:20240422T053451Z
TZURL:https://www.tzurl.org/zoneinfo-outlook/America/New_York
X-LIC-LOCATION:America/New_York
BEGIN:DAYLIGHT
TZNAME:EDT
TZOFFSETFROM:-0500
TZOFFSETTO:-0400
DTSTART:19700308T020000
RRULE:FREQ=YEARLY;BYMONTH=3;BYDAY=2SU
END:DAYLIGHT
BEGIN:STANDARD
TZNAME:EST
TZOFFSETFROM:-0400
TZOFFSETTO:-0500
DTSTART:19701101T020000
RRULE:FREQ=YEARLY;BYMONTH=11;BYDAY=1SU
END:STANDARD
END:VTIMEZONE
BEGIN:VEVENT
CATEGORIES:Category,Student Events,Location,Main Campus
DESCRIPTION:The Student Corporation Activities Committee invites you to celebrate May Day, Flick's 10th birthday celebration! Enjoy a day of food, games, fun, and free stuff on the front lawn of Canandaigua's' Main Campus. Rain Location: Student Center, 2nd Floor Hallway
DTSTAMP:20260420T180439
DTSTART;TZID=America/New_York:20250502T110000
DTEND;TZID=America/New_York:20250502T150000
LOCATION:Main Campus 
SUMMARY;LANGUAGE=en-us:May Day
UID:4d9bb4d0325ecdcc7df4f8a872c22d31@www.flcc.edu
END:VEVENT
END:VCALENDAR







