BEGIN:VCALENDAR
VERSION:2.0
X-WR-CALNAME:EventsCalendar
CALSCALE:GREGORIAN
BEGIN:VTIMEZONE
TZID:America/New_York
LAST-MODIFIED:20240422T053451Z
TZURL:https://www.tzurl.org/zoneinfo-outlook/America/New_York
X-LIC-LOCATION:America/New_York
BEGIN:DAYLIGHT
TZNAME:EDT
TZOFFSETFROM:-0500
TZOFFSETTO:-0400
DTSTART:19700308T020000
RRULE:FREQ=YEARLY;BYMONTH=3;BYDAY=2SU
END:DAYLIGHT
BEGIN:STANDARD
TZNAME:EST
TZOFFSETFROM:-0400
TZOFFSETTO:-0500
DTSTART:19701101T020000
RRULE:FREQ=YEARLY;BYMONTH=11;BYDAY=1SU
END:STANDARD
END:VTIMEZONE
BEGIN:VEVENT
CATEGORIES:Category,Admissions,Category,Public Events,Location,Main Campus,Featured,Featured
DESCRIPTION:If you've been admitted to FLCC, join us for Accepted Student Day. Meet future instructors and classmates, take your first steps as an FLCC student, learn about remaining enrollment steps, and enjoy a guided tour of campus. Register for Accepted Students Day!
DTSTAMP:20260420T050356
DTSTART;TZID=America/New_York:20250412T090000
DTEND;TZID=America/New_York:20250412T120000
LOCATION:Main Campus 
SUMMARY;LANGUAGE=en-us:Accepted Student Day
UID:677475ac228a3a15773dc2298d81f94d@www.flcc.edu
END:VEVENT
END:VCALENDAR







